BEGIN:VCALENDAR
VERSION:2.0
PRODID:icalendar-ruby
CALSCALE:GREGORIAN
METHOD:PUBLISH
BEGIN:VEVENT
DTSTAMP:20260420T051801Z
UID:14-1132535@newlifeministriesofalvarado.com
DTSTART:20260924T020000Z
DTEND:20260924T030000Z
CLASS:PUBLIC
CREATED:20260419T190829
DESCRIPTION:
LAST-MODIFIED:20260419T190829
LOCATION:New Life Ministries
SUMMARY:Children's Church
URL;VALUE=URI:https://nlmalvarado.com/events/childrens-church/2026-09-23
ATTACH;FILENAME=Untitled design (2).jpg;FMTTYPE=image/jpeg:https://dq5pwpg1
 q8ru0.cloudfront.net/2020/12/12/20/10/57/197a17b5-e38a-4d28-92b5-8becbb6c2
 21e/Untitled%20design%20(2).jpg
END:VEVENT
END:VCALENDAR
