BEGIN:VCALENDAR
VERSION:2.0
PRODID:icalendar-ruby
CALSCALE:GREGORIAN
METHOD:PUBLISH
BEGIN:VEVENT
DTSTAMP:20260420T005030Z
UID:10-1131290@newlifeministriesofalvarado.com
DTSTART:20260913T170000Z
DTEND:20260913T180000Z
CLASS:PUBLIC
CREATED:20260419T152837
DESCRIPTION:Join us Sunday morning at 10 AM or watch online via NLM Faceboo
 k or YouTube.
LAST-MODIFIED:20260419T152837
LOCATION:New Life Ministries
SUMMARY:Sunday Service
URL;VALUE=URI:https://nlmalvarado.com/events/sunday-service/2026-09-13
ATTACH;FILENAME=Sunday.png;FMTTYPE=image/png:https://dq5pwpg1q8ru0.cloudfro
 nt.net/2024/06/26/00/17/05/2b1fae59-9da9-46e0-99b6-c67c0c4fc1d7/Sunday.png
END:VEVENT
END:VCALENDAR
