BEGIN:VCALENDAR
VERSION:2.0
PRODID:icalendar-ruby
CALSCALE:GREGORIAN
METHOD:PUBLISH
BEGIN:VEVENT
DTSTAMP:20260420T030538Z
UID:11-1132289@newlifeministriesofalvarado.com
DTSTART:20260924T020000Z
DTEND:20260924T040000Z
CLASS:PUBLIC
CREATED:20260419T190827
DESCRIPTION:Thy word is a lamp unto my feet\, and a light unto my path. - P
 salms 119: 105 (KJV)
LAST-MODIFIED:20260419T190827
LOCATION:New Life Ministries
SUMMARY:Wednesday Night Bible Study
URL;VALUE=URI:https://nlmalvarado.com/events/wednesday-night-bible-study/20
 26-09-23
ATTACH;FILENAME=Wednesday-Night-%282%29.png;FMTTYPE=image/png:https://dq5pw
 pg1q8ru0.cloudfront.net/2024/06/25/23/44/10/778bb6ab-633e-4d3b-a20e-60fd1f
 0e9633/Wednesday-Night-%25282%2529.png
END:VEVENT
END:VCALENDAR
